Package: GSVA Version: 2.1.5 Command: /home/rapidbuild/bbs-3.21-bioc-rapid/R/bin/R CMD check --install=check:GSVA.install-out.txt --library=/home/rapidbuild/bbs-3.21-bioc-rapid/R/site-library --timings GSVA_2.1.5.tar.gz StartedAt: 2025-02-11 09:00:02 -0500 (Tue, 11 Feb 2025) EndedAt: 2025-02-11 09:08:08 -0500 (Tue, 11 Feb 2025) EllapsedTime: 485.7 seconds RetCode: 0 Status: OK CheckDir: GSVA.Rcheck Warnings: 0