Package: GSVA Version: 2.1.5 Command: /home/rapidbuild/bbs-3.21-bioc-rapid/R/bin/R CMD build --keep-empty-dirs --no-resave-data GSVA StartedAt: 2025-02-11 07:01:40 -0500 (Tue, 11 Feb 2025) EndedAt: 2025-02-11 07:03:44 -0500 (Tue, 11 Feb 2025) EllapsedTime: 124.4 seconds RetCode: 0 Status: OK PackageFile: GSVA_2.1.5.tar.gz PackageFileSize: 2.421 MiB