Package: GOSemSim Version: 2.35.0 Command: /home/rapidbuild/bbs-3.22-bioc-rapid/R/bin/R CMD INSTALL GOSemSim StartedAt: 2025-05-09 06:19:59 -0400 (Fri, 09 May 2025) EndedAt: 2025-05-09 06:20:18 -0400 (Fri, 09 May 2025) EllapsedTime: 18.6 seconds RetCode: 0 Status: OK