Package: GOSemSim Version: 2.33.0 Command: /home/rapidbuild/bbs-3.21-bioc-rapid/R/bin/R CMD check --install=check:GOSemSim.install-out.txt --library=/home/rapidbuild/bbs-3.21-bioc-rapid/R/site-library --timings GOSemSim_2.33.0.tar.gz StartedAt: 2025-02-06 08:49:06 -0500 (Thu, 06 Feb 2025) EndedAt: 2025-02-06 08:50:54 -0500 (Thu, 06 Feb 2025) EllapsedTime: 108.3 seconds RetCode: 0 Status: OK CheckDir: GOSemSim.Rcheck Warnings: 0