Package: ExperimentHubData Version: 1.35.0 Command: /home/rapidbuild/bbs-3.22-bioc-rapid/R/bin/R CMD INSTALL ExperimentHubData StartedAt: 2025-05-02 06:24:52 -0400 (Fri, 02 May 2025) EndedAt: 2025-05-02 06:25:27 -0400 (Fri, 02 May 2025) EllapsedTime: 35.4 seconds RetCode: 0 Status: OK