Package: ExperimentHubData Version: 1.33.0 Command: /home/rapidbuild/bbs-3.21-bioc-rapid/R/bin/R CMD check --install=check:ExperimentHubData.install-out.txt --library=/home/rapidbuild/bbs-3.21-bioc-rapid/R/site-library --timings ExperimentHubData_1.33.0.tar.gz StartedAt: 2025-02-11 08:36:14 -0500 (Tue, 11 Feb 2025) EndedAt: 2025-02-11 08:40:38 -0500 (Tue, 11 Feb 2025) EllapsedTime: 264.7 seconds RetCode: 0 Status: WARNINGS CheckDir: ExperimentHubData.Rcheck Warnings: 1