Package: ExperimentHub Version: 2.15.0 Command: /home/rapidbuild/bbs-3.21-bioc-rapid/R/bin/R CMD build --keep-empty-dirs --no-resave-data ExperimentHub StartedAt: 2025-02-05 06:48:32 -0500 (Wed, 05 Feb 2025) EndedAt: 2025-02-05 06:48:59 -0500 (Wed, 05 Feb 2025) EllapsedTime: 27.0 seconds RetCode: 0 Status: OK PackageFile: ExperimentHub_2.15.0.tar.gz PackageFileSize: 489 KiB