Package: EnrichedHeatmap Version: 1.39.0 Command: /home/rapidbuild/bbs-3.22-bioc-rapid/R/bin/R CMD INSTALL EnrichedHeatmap StartedAt: 2025-04-29 06:22:29 -0400 (Tue, 29 Apr 2025) EndedAt: 2025-04-29 06:22:43 -0400 (Tue, 29 Apr 2025) EllapsedTime: 14.2 seconds RetCode: 0 Status: OK