Package: EnrichedHeatmap Version: 1.37.0 Command: /home/rapidbuild/bbs-3.21-bioc-rapid/R/bin/R CMD check --install=check:EnrichedHeatmap.install-out.txt --library=/home/rapidbuild/bbs-3.21-bioc-rapid/R/site-library --timings EnrichedHeatmap_1.37.0.tar.gz StartedAt: 2025-02-11 08:32:01 -0500 (Tue, 11 Feb 2025) EndedAt: 2025-02-11 08:38:07 -0500 (Tue, 11 Feb 2025) EllapsedTime: 365.7 seconds RetCode: 0 Status: OK CheckDir: EnrichedHeatmap.Rcheck Warnings: 0