Package: EnrichedHeatmap Version: 1.37.0 Command: /home/rapidbuild/bbs-3.21-bioc-rapid/R/bin/R CMD build --keep-empty-dirs --no-resave-data EnrichedHeatmap StartedAt: 2025-02-11 06:47:18 -0500 (Tue, 11 Feb 2025) EndedAt: 2025-02-11 06:50:58 -0500 (Tue, 11 Feb 2025) EllapsedTime: 219.9 seconds RetCode: 0 Status: OK PackageFile: EnrichedHeatmap_1.37.0.tar.gz PackageFileSize: 11.63 MiB