Package: EnhancedVolcano Version: 1.25.0 Command: /home/rapidbuild/bbs-3.21-bioc-rapid/R/bin/R CMD INSTALL EnhancedVolcano StartedAt: 2025-02-05 06:16:00 -0500 (Wed, 05 Feb 2025) EndedAt: 2025-02-05 06:16:04 -0500 (Wed, 05 Feb 2025) EllapsedTime: 4.0 seconds RetCode: 0 Status: OK