Package: EnhancedVolcano Version: 1.25.0 Command: /home/rapidbuild/bbs-3.21-bioc-rapid/R/bin/R CMD build --keep-empty-dirs --no-resave-data EnhancedVolcano StartedAt: 2025-02-05 06:47:31 -0500 (Wed, 05 Feb 2025) EndedAt: 2025-02-05 06:48:31 -0500 (Wed, 05 Feb 2025) EllapsedTime: 60.9 seconds RetCode: 1 Status: ERROR PackageFile: None PackageFileSize: NA