Package: EDASeq Version: 2.41.0 Command: /home/rapidbuild/bbs-3.21-bioc-rapid/R/bin/R CMD INSTALL EDASeq StartedAt: 2025-02-05 06:25:29 -0500 (Wed, 05 Feb 2025) EndedAt: 2025-02-05 06:26:07 -0500 (Wed, 05 Feb 2025) EllapsedTime: 37.9 seconds RetCode: 0 Status: OK