Package: EDASeq Version: 2.41.0 Command: /home/rapidbuild/bbs-3.21-bioc-rapid/R/bin/R CMD check --install=check:EDASeq.install-out.txt --library=/home/rapidbuild/bbs-3.21-bioc-rapid/R/site-library --timings EDASeq_2.41.0.tar.gz StartedAt: 2025-02-05 08:22:10 -0500 (Wed, 05 Feb 2025) EndedAt: 2025-02-05 08:27:27 -0500 (Wed, 05 Feb 2025) EllapsedTime: 317.1 seconds RetCode: 0 Status: OK CheckDir: EDASeq.Rcheck Warnings: 0