Package: EDASeq Version: 2.41.0 Command: /home/rapidbuild/bbs-3.21-bioc-rapid/R/bin/R CMD build --keep-empty-dirs --no-resave-data EDASeq StartedAt: 2025-02-05 06:46:54 -0500 (Wed, 05 Feb 2025) EndedAt: 2025-02-05 06:48:01 -0500 (Wed, 05 Feb 2025) EllapsedTime: 67.3 seconds RetCode: 0 Status: OK PackageFile: EDASeq_2.41.0.tar.gz PackageFileSize: 1.135 MiB