Package: EBImage Version: 4.51.0 Command: /home/rapidbuild/bbs-3.22-bioc-rapid/R/bin/R CMD INSTALL EBImage StartedAt: 2025-04-29 06:13:13 -0400 (Tue, 29 Apr 2025) EndedAt: 2025-04-29 06:13:23 -0400 (Tue, 29 Apr 2025) EllapsedTime: 9.8 seconds RetCode: 0 Status: OK