Package: EBImage Version: 4.51.0 Command: /home/rapidbuild/bbs-3.22-bioc-rapid/R/bin/R CMD build --keep-empty-dirs --no-resave-data EBImage StartedAt: 2025-04-30 06:43:35 -0400 (Wed, 30 Apr 2025) EndedAt: 2025-04-30 06:44:00 -0400 (Wed, 30 Apr 2025) EllapsedTime: 24.3 seconds RetCode: 0 Status: OK PackageFile: EBImage_4.51.0.tar.gz PackageFileSize: 5.209 MiB