Package: DynDoc Version: 1.85.0 Command: /home/rapidbuild/bbs-3.21-bioc-rapid/R/bin/R CMD INSTALL DynDoc StartedAt: 2025-02-05 06:05:55 -0500 (Wed, 05 Feb 2025) EndedAt: 2025-02-05 06:05:58 -0500 (Wed, 05 Feb 2025) EllapsedTime: 3.0 seconds RetCode: 0 Status: OK