Package: DropletUtils Version: 1.27.2 Command: /home/rapidbuild/bbs-3.21-bioc-rapid/R/bin/R CMD INSTALL DropletUtils StartedAt: 2025-02-05 06:20:58 -0500 (Wed, 05 Feb 2025) EndedAt: 2025-02-05 06:21:57 -0500 (Wed, 05 Feb 2025) EllapsedTime: 58.8 seconds RetCode: 0 Status: OK