Package: DropletUtils Version: 1.27.2 Command: /home/rapidbuild/bbs-3.21-bioc-rapid/R/bin/R CMD build --keep-empty-dirs --no-resave-data DropletUtils StartedAt: 2025-02-05 06:46:14 -0500 (Wed, 05 Feb 2025) EndedAt: 2025-02-05 06:47:27 -0500 (Wed, 05 Feb 2025) EllapsedTime: 72.7 seconds RetCode: 0 Status: OK PackageFile: DropletUtils_1.27.2.tar.gz PackageFileSize: 588.6 KiB