Package: DirichletMultinomial Version: 1.49.0 Command: /home/rapidbuild/bbs-3.21-bioc-rapid/R/bin/R CMD INSTALL DirichletMultinomial StartedAt: 2025-02-05 06:11:59 -0500 (Wed, 05 Feb 2025) EndedAt: 2025-02-05 06:12:08 -0500 (Wed, 05 Feb 2025) EllapsedTime: 8.2 seconds RetCode: 0 Status: OK