Package: DirichletMultinomial Version: 1.49.0 Command: /home/rapidbuild/bbs-3.21-bioc-rapid/R/bin/R CMD check --install=check:DirichletMultinomial.install-out.txt --library=/home/rapidbuild/bbs-3.21-bioc-rapid/R/site-library --timings DirichletMultinomial_1.49.0.tar.gz StartedAt: 2025-02-05 08:17:59 -0500 (Wed, 05 Feb 2025) EndedAt: 2025-02-05 08:18:54 -0500 (Wed, 05 Feb 2025) EllapsedTime: 55.0 seconds RetCode: 0 Status: WARNINGS CheckDir: DirichletMultinomial.Rcheck Warnings: 1