Package: DirichletMultinomial Version: 1.49.0 Command: /home/rapidbuild/bbs-3.21-bioc-rapid/R/bin/R CMD build --keep-empty-dirs --no-resave-data DirichletMultinomial StartedAt: 2025-02-05 06:45:22 -0500 (Wed, 05 Feb 2025) EndedAt: 2025-02-05 06:45:42 -0500 (Wed, 05 Feb 2025) EllapsedTime: 20.0 seconds RetCode: 0 Status: OK PackageFile: DirichletMultinomial_1.49.0.tar.gz PackageFileSize: 1.06 MiB