Package: DelayedMatrixStats Version: 1.31.0 Command: /home/rapidbuild/bbs-3.22-bioc-rapid/R/bin/R CMD INSTALL DelayedMatrixStats StartedAt: 2025-07-24 06:13:12 -0400 (Thu, 24 Jul 2025) EndedAt: 2025-07-24 06:13:27 -0400 (Thu, 24 Jul 2025) EllapsedTime: 15.2 seconds RetCode: 0 Status: OK