Package: DelayedMatrixStats Version: 1.29.1 Command: /home/rapidbuild/bbs-3.21-bioc-rapid/R/bin/R CMD check --install=check:DelayedMatrixStats.install-out.txt --library=/home/rapidbuild/bbs-3.21-bioc-rapid/R/site-library --timings DelayedMatrixStats_1.29.1.tar.gz StartedAt: 2025-02-11 08:24:18 -0500 (Tue, 11 Feb 2025) EndedAt: 2025-02-11 08:30:39 -0500 (Tue, 11 Feb 2025) EllapsedTime: 381.0 seconds RetCode: 1 Status: ERROR CheckDir: DelayedMatrixStats.Rcheck Warnings: NA