Package: DelayedArray Version: 0.33.5 Command: /home/rapidbuild/bbs-3.21-bioc-rapid/R/bin/R CMD INSTALL DelayedArray StartedAt: 2025-02-11 06:12:51 -0500 (Tue, 11 Feb 2025) EndedAt: 2025-02-11 06:13:15 -0500 (Tue, 11 Feb 2025) EllapsedTime: 24.3 seconds RetCode: 0 Status: OK