Package: DelayedArray Version: 0.33.5 Command: _R_CHECK_CODETOOLS_PROFILE_="suppressFundefMismatch=TRUE" /home/rapidbuild/bbs-3.21-bioc-rapid/R/bin/R CMD check --install=check:DelayedArray.install-out.txt --library=/home/rapidbuild/bbs-3.21-bioc-rapid/R/site-library --timings DelayedArray_0.33.5.tar.gz StartedAt: 2025-02-11 08:22:36 -0500 (Tue, 11 Feb 2025) EndedAt: 2025-02-11 08:43:10 -0500 (Tue, 11 Feb 2025) EllapsedTime: 1233.2 seconds RetCode: 0 Status: WARNINGS CheckDir: DelayedArray.Rcheck Warnings: 1