Package: DOSE Version: 4.1.0 Command: /home/rapidbuild/bbs-3.21-bioc-rapid/R/bin/R CMD INSTALL DOSE StartedAt: 2025-02-05 06:26:07 -0500 (Wed, 05 Feb 2025) EndedAt: 2025-02-05 06:26:27 -0500 (Wed, 05 Feb 2025) EllapsedTime: 19.6 seconds RetCode: 0 Status: OK