Package: DNAcopy Version: 1.83.0 Command: /home/rapidbuild/bbs-3.22-bioc-rapid/R/bin/R CMD INSTALL DNAcopy StartedAt: 2025-04-30 06:05:24 -0400 (Wed, 30 Apr 2025) EndedAt: 2025-04-30 06:05:29 -0400 (Wed, 30 Apr 2025) EllapsedTime: 4.3 seconds RetCode: 0 Status: OK