Package: DEXSeq Version: 1.53.0 Command: /home/rapidbuild/bbs-3.21-bioc-rapid/R/bin/R CMD build --keep-empty-dirs --no-resave-data DEXSeq StartedAt: 2025-02-05 06:45:07 -0500 (Wed, 05 Feb 2025) EndedAt: 2025-02-05 06:46:14 -0500 (Wed, 05 Feb 2025) EllapsedTime: 67.3 seconds RetCode: 1 Status: ERROR PackageFile: None PackageFileSize: NA