Package: DESeq2 Version: 1.47.3 Command: /home/rapidbuild/bbs-3.21-bioc-rapid/R/bin/R CMD INSTALL DESeq2 StartedAt: 2025-02-10 06:20:08 -0500 (Mon, 10 Feb 2025) EndedAt: 2025-02-10 06:20:48 -0500 (Mon, 10 Feb 2025) EllapsedTime: 40.1 seconds RetCode: 0 Status: OK