Package: DECIPHER Version: 3.3.2 Command: /home/rapidbuild/bbs-3.21-bioc-rapid/R/bin/R CMD build --keep-empty-dirs --no-resave-data DECIPHER StartedAt: 2025-02-05 06:41:42 -0500 (Wed, 05 Feb 2025) EndedAt: 2025-02-05 06:55:00 -0500 (Wed, 05 Feb 2025) EllapsedTime: 798.0 seconds RetCode: 0 Status: OK PackageFile: DECIPHER_3.3.2.tar.gz PackageFileSize: 17.16 MiB