Package: ConsensusClusterPlus Version: 1.71.0 Command: /home/rapidbuild/bbs-3.21-bioc-rapid/R/bin/R CMD build --keep-empty-dirs --no-resave-data ConsensusClusterPlus StartedAt: 2025-02-06 06:42:35 -0500 (Thu, 06 Feb 2025) EndedAt: 2025-02-06 06:42:44 -0500 (Thu, 06 Feb 2025) EllapsedTime: 9.0 seconds RetCode: 0 Status: OK PackageFile: ConsensusClusterPlus_1.71.0.tar.gz PackageFileSize: 408.6 KiB