Package: ChemmineR Version: 3.59.0 Command: /home/rapidbuild/bbs-3.21-bioc-rapid/R/bin/R CMD INSTALL ChemmineR StartedAt: 2025-02-05 06:15:56 -0500 (Wed, 05 Feb 2025) EndedAt: 2025-02-05 06:16:18 -0500 (Wed, 05 Feb 2025) EllapsedTime: 22.7 seconds RetCode: 0 Status: OK