Package: ChemmineR Version: 3.59.0 Command: /home/rapidbuild/bbs-3.21-bioc-rapid/R/bin/R CMD check --install=check:ChemmineR.install-out.txt --library=/home/rapidbuild/bbs-3.21-bioc-rapid/R/site-library --timings ChemmineR_3.59.0.tar.gz StartedAt: 2025-02-05 08:12:13 -0500 (Wed, 05 Feb 2025) EndedAt: 2025-02-05 08:14:06 -0500 (Wed, 05 Feb 2025) EllapsedTime: 112.6 seconds RetCode: 0 Status: WARNINGS CheckDir: ChemmineR.Rcheck Warnings: 2