Package: ChemmineR Version: 3.59.0 Command: /home/rapidbuild/bbs-3.21-bioc-rapid/R/bin/R CMD build --keep-empty-dirs --no-resave-data ChemmineR StartedAt: 2025-02-05 06:40:11 -0500 (Wed, 05 Feb 2025) EndedAt: 2025-02-05 06:41:11 -0500 (Wed, 05 Feb 2025) EllapsedTime: 60.3 seconds RetCode: 0 Status: OK PackageFile: ChemmineR_3.59.0.tar.gz PackageFileSize: 2.099 MiB