Package: BumpyMatrix Version: 1.15.0 Command: /home/rapidbuild/bbs-3.21-bioc-rapid/R/bin/R CMD INSTALL BumpyMatrix StartedAt: 2025-02-05 06:12:02 -0500 (Wed, 05 Feb 2025) EndedAt: 2025-02-05 06:12:14 -0500 (Wed, 05 Feb 2025) EllapsedTime: 12.4 seconds RetCode: 0 Status: OK