Package: BumpyMatrix Version: 1.15.0 Command: /home/rapidbuild/bbs-3.21-bioc-rapid/R/bin/R CMD build --keep-empty-dirs --no-resave-data BumpyMatrix StartedAt: 2025-02-05 06:39:06 -0500 (Wed, 05 Feb 2025) EndedAt: 2025-02-05 06:39:27 -0500 (Wed, 05 Feb 2025) EllapsedTime: 21.0 seconds RetCode: 0 Status: OK PackageFile: BumpyMatrix_1.15.0.tar.gz PackageFileSize: 317.6 KiB