Package: BiocVersion Version: 3.21.1 Command: /home/rapidbuild/bbs-3.21-bioc-rapid/R/bin/R CMD INSTALL BiocVersion StartedAt: 2025-02-05 06:04:30 -0500 (Wed, 05 Feb 2025) EndedAt: 2025-02-05 06:04:32 -0500 (Wed, 05 Feb 2025) EllapsedTime: 1.2 seconds RetCode: 0 Status: OK