Package: BiocVersion Version: 3.21.1 Command: /home/rapidbuild/bbs-3.21-bioc-rapid/R/bin/R CMD build --keep-empty-dirs --no-resave-data BiocVersion StartedAt: 2025-02-05 06:37:00 -0500 (Wed, 05 Feb 2025) EndedAt: 2025-02-05 06:37:01 -0500 (Wed, 05 Feb 2025) EllapsedTime: 1.0 seconds RetCode: 0 Status: OK PackageFile: BiocVersion_3.21.1.tar.gz PackageFileSize: 999 bytes