Package: BiocStyle Version: 2.35.0 Command: /home/rapidbuild/bbs-3.21-bioc-rapid/R/bin/R CMD INSTALL BiocStyle StartedAt: 2025-02-05 06:13:52 -0500 (Wed, 05 Feb 2025) EndedAt: 2025-02-05 06:13:55 -0500 (Wed, 05 Feb 2025) EllapsedTime: 3.0 seconds RetCode: 0 Status: OK