Package: BiocStyle Version: 2.35.0 Command: /home/rapidbuild/bbs-3.21-bioc-rapid/R/bin/R CMD build --keep-empty-dirs --no-resave-data BiocStyle StartedAt: 2025-02-05 06:36:27 -0500 (Wed, 05 Feb 2025) EndedAt: 2025-02-05 06:36:41 -0500 (Wed, 05 Feb 2025) EllapsedTime: 14.0 seconds RetCode: 0 Status: OK PackageFile: BiocStyle_2.35.0.tar.gz PackageFileSize: 885 KiB