Package: BiocSingular Version: 1.23.0 Command: /home/rapidbuild/bbs-3.21-bioc-rapid/R/bin/R CMD INSTALL BiocSingular StartedAt: 2025-02-11 06:18:48 -0500 (Tue, 11 Feb 2025) EndedAt: 2025-02-11 06:19:11 -0500 (Tue, 11 Feb 2025) EllapsedTime: 23.6 seconds RetCode: 0 Status: OK