Package: BiocSingular Version: 1.23.0 Command: /home/rapidbuild/bbs-3.21-bioc-rapid/R/bin/R CMD check --install=check:BiocSingular.install-out.txt --library=/home/rapidbuild/bbs-3.21-bioc-rapid/R/site-library --timings BiocSingular_1.23.0.tar.gz StartedAt: 2025-02-11 08:09:05 -0500 (Tue, 11 Feb 2025) EndedAt: 2025-02-11 08:12:07 -0500 (Tue, 11 Feb 2025) EllapsedTime: 181.3 seconds RetCode: 0 Status: WARNINGS CheckDir: BiocSingular.Rcheck Warnings: 1