Package: BiocParallel Version: 1.41.0 Command: /home/rapidbuild/bbs-3.21-bioc-rapid/R/bin/R CMD INSTALL BiocParallel StartedAt: 2025-02-05 06:15:06 -0500 (Wed, 05 Feb 2025) EndedAt: 2025-02-05 06:15:21 -0500 (Wed, 05 Feb 2025) EllapsedTime: 15.5 seconds RetCode: 0 Status: OK