Package: BiocIO Version: 1.17.1 Command: /home/rapidbuild/bbs-3.21-bioc-rapid/R/bin/R CMD INSTALL BiocIO StartedAt: 2025-02-10 06:13:41 -0500 (Mon, 10 Feb 2025) EndedAt: 2025-02-10 06:13:45 -0500 (Mon, 10 Feb 2025) EllapsedTime: 4.2 seconds RetCode: 0 Status: OK