Package: BiocIO Version: 1.17.1 Command: /home/rapidbuild/bbs-3.21-bioc-rapid/R/bin/R CMD build --keep-empty-dirs --no-resave-data BiocIO StartedAt: 2025-02-10 06:37:29 -0500 (Mon, 10 Feb 2025) EndedAt: 2025-02-10 06:37:54 -0500 (Mon, 10 Feb 2025) EllapsedTime: 25.0 seconds RetCode: 0 Status: OK PackageFile: BiocIO_1.17.1.tar.gz PackageFileSize: 226.5 KiB