Package: BiocGenerics Version: 0.53.6 Command: /home/rapidbuild/bbs-3.21-bioc-rapid/R/bin/R CMD INSTALL BiocGenerics StartedAt: 2025-02-05 06:08:51 -0500 (Wed, 05 Feb 2025) EndedAt: 2025-02-05 06:08:55 -0500 (Wed, 05 Feb 2025) EllapsedTime: 3.2 seconds RetCode: 0 Status: OK