Package: BiocFileCache Version: 2.99.6 Command: /home/rapidbuild/bbs-3.22-bioc-rapid/R/bin/R CMD build --keep-empty-dirs --no-resave-data BiocFileCache StartedAt: 2025-10-13 06:31:34 -0400 (Mon, 13 Oct 2025) EndedAt: 2025-10-13 06:32:36 -0400 (Mon, 13 Oct 2025) EllapsedTime: 61.5 seconds RetCode: 0 Status: OK PackageFile: BiocFileCache_2.99.6.tar.gz PackageFileSize: 725.9 KiB