Package: BiocCheck Version: 1.43.4 Command: /home/rapidbuild/bbs-3.21-bioc-rapid/R/bin/R CMD INSTALL BiocCheck StartedAt: 2025-02-11 06:15:52 -0500 (Tue, 11 Feb 2025) EndedAt: 2025-02-11 06:16:00 -0500 (Tue, 11 Feb 2025) EllapsedTime: 8.2 seconds RetCode: 0 Status: OK